BEGIN:VCALENDAR
VERSION:2.0
PRODID:-//Department Of Education//03bba1de-88d8-4567-97b5-d8fb92a25cdc
BEGIN:VTIMEZONE
TZID:Australia/Sydney
TZURL:http://tzurl.org/zoneinfo-outlook/Australia/Sydney
X-LIC-LOCATION:Australia/Sydney
BEGIN:STANDARD
TZOFFSETFROM:+1100
TZOFFSETTO:+1000
TZNAME:AEST
DTSTART:19700405T030000
RRULE:FREQ=YEARLY;BYMONTH=4;BYDAY=1SU
END:STANDARD
BEGIN:DAYLIGHT
TZOFFSETFROM:+1000
TZOFFSETTO:+1100
TZNAME:AEDT
DTSTART:19701004T020000
RRULE:FREQ=YEARLY;BYMONTH=10;BYDAY=1SU
END:DAYLIGHT
END:VTIMEZONE
CALSCALE:GREGORIAN
X-WR-TIMEZONE:Australia/Sydney
BEGIN:VEVENT
DTSTART;VALUE=DATE:20210301
DTEND;VALUE=DATE:20210302
DTSTAMP:20210301T000000Z
UID:e234444d-8fbe-4353-8449-6e4565a7d12b
LOCATION:Hall
SUMMARY;LANGUAGE=en-us:Year 12 MyStrengths Program 
SEQUENCE:0
DESCRIPTION:Year 12 MyStrengths Program
END:VEVENT
TRANSP:TRANSPARENT
END:VCALENDAR
