BEGIN:VCALENDAR
VERSION:2.0
PRODID:-//Department Of Education//6067ad8e-4d89-4799-b44e-5decfa0d343c
BEGIN:VTIMEZONE
TZID:Australia/Sydney
TZURL:http://tzurl.org/zoneinfo-outlook/Australia/Sydney
X-LIC-LOCATION:Australia/Sydney
BEGIN:STANDARD
TZOFFSETFROM:+1100
TZOFFSETTO:+1000
TZNAME:AEST
DTSTART:19700405T030000
RRULE:FREQ=YEARLY;BYMONTH=4;BYDAY=1SU
END:STANDARD
BEGIN:DAYLIGHT
TZOFFSETFROM:+1000
TZOFFSETTO:+1100
TZNAME:AEDT
DTSTART:19701004T020000
RRULE:FREQ=YEARLY;BYMONTH=10;BYDAY=1SU
END:DAYLIGHT
END:VTIMEZONE
CALSCALE:GREGORIAN
X-WR-TIMEZONE:Australia/Sydney
BEGIN:VEVENT
DTSTART;TZID=Australia/Sydney:20210223T105000
DTEND;TZID=Australia/Sydney:20210223T112000
DTSTAMP:20210223T000000Z
UID:9598005e-9ef3-484f-888f-03cd4ff101eb
LOCATION:Hall
SUMMARY;LANGUAGE=en-us:*POSTPONED*  Year 10 Cyber Safety Incursion
SEQUENCE:0
DESCRIPTION:*POSTPONED* Year 10 Cyber Safety Incursion
END:VEVENT
TRANSP:TRANSPARENT
END:VCALENDAR
